BEGIN:VCALENDAR
VERSION:2.0
PRODID:-//SGDL - ECPv6.15.20//NONSGML v1.0//EN
CALSCALE:GREGORIAN
METHOD:PUBLISH
X-WR-CALNAME:SGDL
X-ORIGINAL-URL:https://www.sgdl.ch
X-WR-CALDESC:Évènements pour SGDL
REFRESH-INTERVAL;VALUE=DURATION:PT1H
X-Robots-Tag:noindex
X-PUBLISHED-TTL:PT1H
BEGIN:VTIMEZONE
TZID:Europe/Zurich
BEGIN:DAYLIGHT
TZOFFSETFROM:+0100
TZOFFSETTO:+0200
TZNAME:CEST
DTSTART:20180325T010000
END:DAYLIGHT
BEGIN:STANDARD
TZOFFSETFROM:+0200
TZOFFSETTO:+0100
TZNAME:CET
DTSTART:20181028T010000
END:STANDARD
BEGIN:DAYLIGHT
TZOFFSETFROM:+0100
TZOFFSETTO:+0200
TZNAME:CEST
DTSTART:20190331T010000
END:DAYLIGHT
BEGIN:STANDARD
TZOFFSETFROM:+0200
TZOFFSETTO:+0100
TZNAME:CET
DTSTART:20191027T010000
END:STANDARD
BEGIN:DAYLIGHT
TZOFFSETFROM:+0100
TZOFFSETTO:+0200
TZNAME:CEST
DTSTART:20200329T010000
END:DAYLIGHT
BEGIN:STANDARD
TZOFFSETFROM:+0200
TZOFFSETTO:+0100
TZNAME:CET
DTSTART:20201025T010000
END:STANDARD
END:VTIMEZONE
BEGIN:VEVENT
DTSTART;TZID=Europe/Zurich:20190909T183000
DTEND;TZID=Europe/Zurich:20190909T200000
DTSTAMP:20260426T055022
CREATED:20190618T080828Z
LAST-MODIFIED:20190618T080828Z
UID:6672-1568053800-1568059200@www.sgdl.ch
SUMMARY:Giulia Neri-Castracane
DESCRIPTION:Giulia Neri-Castracane\, Dr. iur.\, Avocate\, chargée de cours à l’UNIGE et à l’USI: « La philanthropie et ses principales structures juridiques »
URL:https://www.sgdl.ch/conference/giulia-neri-castracane/
LOCATION:Théâtre Les Salons\, Rue Bartholoni 6\, Genève\, Genève\, 1204\, Switzerland
END:VEVENT
END:VCALENDAR