BEGIN:VCALENDAR
VERSION:2.0
PRODID:-//SGDL - ECPv6.15.20//NONSGML v1.0//EN
CALSCALE:GREGORIAN
METHOD:PUBLISH
X-ORIGINAL-URL:https://www.sgdl.ch
X-WR-CALDESC:Évènements pour SGDL
REFRESH-INTERVAL;VALUE=DURATION:PT1H
X-Robots-Tag:noindex
X-PUBLISHED-TTL:PT1H
BEGIN:VTIMEZONE
TZID:Europe/Zurich
BEGIN:DAYLIGHT
TZOFFSETFROM:+0100
TZOFFSETTO:+0200
TZNAME:CEST
DTSTART:20190331T010000
END:DAYLIGHT
BEGIN:STANDARD
TZOFFSETFROM:+0200
TZOFFSETTO:+0100
TZNAME:CET
DTSTART:20191027T010000
END:STANDARD
BEGIN:DAYLIGHT
TZOFFSETFROM:+0100
TZOFFSETTO:+0200
TZNAME:CEST
DTSTART:20200329T010000
END:DAYLIGHT
BEGIN:STANDARD
TZOFFSETFROM:+0200
TZOFFSETTO:+0100
TZNAME:CET
DTSTART:20201025T010000
END:STANDARD
BEGIN:DAYLIGHT
TZOFFSETFROM:+0100
TZOFFSETTO:+0200
TZNAME:CEST
DTSTART:20210328T010000
END:DAYLIGHT
BEGIN:STANDARD
TZOFFSETFROM:+0200
TZOFFSETTO:+0100
TZNAME:CET
DTSTART:20211031T010000
END:STANDARD
END:VTIMEZONE
BEGIN:VEVENT
DTSTART;TZID=Europe/Zurich:20200203T183000
DTEND;TZID=Europe/Zurich:20200203T200000
DTSTAMP:20260425T213234
CREATED:20191206T145511Z
LAST-MODIFIED:20200117T155046Z
UID:6738-1580754600-1580760000@www.sgdl.ch
SUMMARY:Katia Villard / Yves Bertossa
DESCRIPTION:Katia Villard\, Dr. iur.\, titulaire du brevet d’avocat\, chargée de cours à l’UNIGE et Yves Bertossa\, Premier Procureur : « La Suisse\, la corruption et l’OCDE : enjeux actuels »
URL:https://www.sgdl.ch/conference/katia-villard-yves-bertossa/
LOCATION:Théâtre Les Salons\, Rue Bartholoni 6\, Genève\, Genève\, 1204\, Switzerland
END:VEVENT
END:VCALENDAR