BEGIN:VCALENDAR
VERSION:2.0
PRODID:-//SGDL - ECPv6.15.20//NONSGML v1.0//EN
CALSCALE:GREGORIAN
METHOD:PUBLISH
X-WR-CALNAME:SGDL
X-ORIGINAL-URL:https://www.sgdl.ch
X-WR-CALDESC:Évènements pour SGDL
REFRESH-INTERVAL;VALUE=DURATION:PT1H
X-Robots-Tag:noindex
X-PUBLISHED-TTL:PT1H
BEGIN:VTIMEZONE
TZID:Europe/Zurich
BEGIN:DAYLIGHT
TZOFFSETFROM:+0100
TZOFFSETTO:+0200
TZNAME:CEST
DTSTART:20190331T010000
END:DAYLIGHT
BEGIN:STANDARD
TZOFFSETFROM:+0200
TZOFFSETTO:+0100
TZNAME:CET
DTSTART:20191027T010000
END:STANDARD
BEGIN:DAYLIGHT
TZOFFSETFROM:+0100
TZOFFSETTO:+0200
TZNAME:CEST
DTSTART:20200329T010000
END:DAYLIGHT
BEGIN:STANDARD
TZOFFSETFROM:+0200
TZOFFSETTO:+0100
TZNAME:CET
DTSTART:20201025T010000
END:STANDARD
BEGIN:DAYLIGHT
TZOFFSETFROM:+0100
TZOFFSETTO:+0200
TZNAME:CEST
DTSTART:20210328T010000
END:DAYLIGHT
BEGIN:STANDARD
TZOFFSETFROM:+0200
TZOFFSETTO:+0100
TZNAME:CET
DTSTART:20211031T010000
END:STANDARD
END:VTIMEZONE
BEGIN:VEVENT
DTSTART;TZID=Europe/Zurich:20201005T183000
DTEND;TZID=Europe/Zurich:20201005T200000
DTSTAMP:20260423T155840
CREATED:20200529T124654Z
LAST-MODIFIED:20201008T092309Z
UID:6895-1601922600-1601928000@www.sgdl.ch
SUMMARY:CONFERENCE ANNULEE - Jacques Dubey
DESCRIPTION:Jacques Dubey\, Professeur à l’Université de Fribourg : « La notion d’objet du litige en droit administratif » (ANNULEE) \nInformations à venir concernant l’inscription.
URL:https://www.sgdl.ch/conference/jacques-dubey/
LOCATION:Genève
END:VEVENT
END:VCALENDAR