BEGIN:VCALENDAR
VERSION:2.0
PRODID:-//SGDL - ECPv6.15.20//NONSGML v1.0//EN
CALSCALE:GREGORIAN
METHOD:PUBLISH
X-ORIGINAL-URL:https://www.sgdl.ch
X-WR-CALDESC:Évènements pour SGDL
REFRESH-INTERVAL;VALUE=DURATION:PT1H
X-Robots-Tag:noindex
X-PUBLISHED-TTL:PT1H
BEGIN:VTIMEZONE
TZID:Europe/Zurich
BEGIN:DAYLIGHT
TZOFFSETFROM:+0100
TZOFFSETTO:+0200
TZNAME:CEST
DTSTART:20190331T010000
END:DAYLIGHT
BEGIN:STANDARD
TZOFFSETFROM:+0200
TZOFFSETTO:+0100
TZNAME:CET
DTSTART:20191027T010000
END:STANDARD
BEGIN:DAYLIGHT
TZOFFSETFROM:+0100
TZOFFSETTO:+0200
TZNAME:CEST
DTSTART:20200329T010000
END:DAYLIGHT
BEGIN:STANDARD
TZOFFSETFROM:+0200
TZOFFSETTO:+0100
TZNAME:CET
DTSTART:20201025T010000
END:STANDARD
BEGIN:DAYLIGHT
TZOFFSETFROM:+0100
TZOFFSETTO:+0200
TZNAME:CEST
DTSTART:20210328T010000
END:DAYLIGHT
BEGIN:STANDARD
TZOFFSETFROM:+0200
TZOFFSETTO:+0100
TZNAME:CET
DTSTART:20211031T010000
END:STANDARD
END:VTIMEZONE
BEGIN:VEVENT
DTSTART;TZID=Europe/Zurich:20201207T183000
DTEND;TZID=Europe/Zurich:20201207T200000
DTSTAMP:20260423T122513
CREATED:20200529T125024Z
LAST-MODIFIED:20201013T093210Z
UID:6899-1607365800-1607371200@www.sgdl.ch
SUMMARY:CONFERENCE ANNULEE - Alain Macaluso
DESCRIPTION:Alain Macaluso\, Avocat\, Professeur à l’Université de Lausanne : « La prescription de l’action pénale : rappel\, nouveautés et perspectives\, y compris du point de vue du DPA »
URL:https://www.sgdl.ch/conference/alain-macaluso/
LOCATION:Théâtre Les Salons\, Rue Bartholoni 6\, Genève\, Genève\, 1204\, Switzerland
END:VEVENT
END:VCALENDAR