BEGIN:VCALENDAR
VERSION:2.0
PRODID:-//SGDL - ECPv6.15.20//NONSGML v1.0//EN
CALSCALE:GREGORIAN
METHOD:PUBLISH
X-ORIGINAL-URL:https://www.sgdl.ch
X-WR-CALDESC:Évènements pour SGDL
REFRESH-INTERVAL;VALUE=DURATION:PT1H
X-Robots-Tag:noindex
X-PUBLISHED-TTL:PT1H
BEGIN:VTIMEZONE
TZID:Europe/Zurich
BEGIN:DAYLIGHT
TZOFFSETFROM:+0100
TZOFFSETTO:+0200
TZNAME:CEST
DTSTART:20200329T010000
END:DAYLIGHT
BEGIN:STANDARD
TZOFFSETFROM:+0200
TZOFFSETTO:+0100
TZNAME:CET
DTSTART:20201025T010000
END:STANDARD
BEGIN:DAYLIGHT
TZOFFSETFROM:+0100
TZOFFSETTO:+0200
TZNAME:CEST
DTSTART:20210328T010000
END:DAYLIGHT
BEGIN:STANDARD
TZOFFSETFROM:+0200
TZOFFSETTO:+0100
TZNAME:CET
DTSTART:20211031T010000
END:STANDARD
BEGIN:DAYLIGHT
TZOFFSETFROM:+0100
TZOFFSETTO:+0200
TZNAME:CEST
DTSTART:20220327T010000
END:DAYLIGHT
BEGIN:STANDARD
TZOFFSETFROM:+0200
TZOFFSETTO:+0100
TZNAME:CET
DTSTART:20221030T010000
END:STANDARD
END:VTIMEZONE
BEGIN:VEVENT
DTSTART;TZID=Europe/Zurich:20210201T183000
DTEND;TZID=Europe/Zurich:20210201T200000
DTSTAMP:20260421T150016
CREATED:20200529T125440Z
LAST-MODIFIED:20201210T084533Z
UID:6903-1612204200-1612209600@www.sgdl.ch
SUMMARY:Sylvain Métille - Webinaire
DESCRIPTION:Sylvain Métille\, Professeur à l’Université de Lausanne\, Avocat : « La nouvelle Loi sur la protection des données\, qu’est-ce que cela change ? » \nInscription nécessaire par e-mail auprès de sgdl@loyco.ch \nLes détails relatifs à la connexion vous seront communiqués avant la conférence.
URL:https://www.sgdl.ch/conference/sylvain-metille/
LOCATION:Zoom
END:VEVENT
END:VCALENDAR